BEGIN:VCALENDAR
VERSION:2.0
PRODID:-//Friendship Circle of Central Jersey - ECPv6.15.20//NONSGML v1.0//EN
CALSCALE:GREGORIAN
METHOD:PUBLISH
X-ORIGINAL-URL:https://friendsnj.com
X-WR-CALDESC:Events for Friendship Circle of Central Jersey
REFRESH-INTERVAL;VALUE=DURATION:PT1H
X-Robots-Tag:noindex
X-PUBLISHED-TTL:PT1H
BEGIN:VTIMEZONE
TZID:America/New_York
BEGIN:DAYLIGHT
TZOFFSETFROM:-0500
TZOFFSETTO:-0400
TZNAME:EDT
DTSTART:20230312T070000
END:DAYLIGHT
BEGIN:STANDARD
TZOFFSETFROM:-0400
TZOFFSETTO:-0500
TZNAME:EST
DTSTART:20231105T060000
END:STANDARD
BEGIN:DAYLIGHT
TZOFFSETFROM:-0500
TZOFFSETTO:-0400
TZNAME:EDT
DTSTART:20240310T070000
END:DAYLIGHT
BEGIN:STANDARD
TZOFFSETFROM:-0400
TZOFFSETTO:-0500
TZNAME:EST
DTSTART:20241103T060000
END:STANDARD
BEGIN:DAYLIGHT
TZOFFSETFROM:-0500
TZOFFSETTO:-0400
TZNAME:EDT
DTSTART:20250309T070000
END:DAYLIGHT
BEGIN:STANDARD
TZOFFSETFROM:-0400
TZOFFSETTO:-0500
TZNAME:EST
DTSTART:20251102T060000
END:STANDARD
END:VTIMEZONE
BEGIN:VEVENT
DTSTART;TZID=America/New_York:20240820T193000
DTEND;TZID=America/New_York:20240820T210000
DTSTAMP:20260421T013508
CREATED:20240812T183340Z
LAST-MODIFIED:20240812T185224Z
UID:18417-1724182200-1724187600@friendsnj.com
SUMMARY:Volunteer & Parent Orientation
DESCRIPTION:Volunteer Event Info\n                             \n                        \n                        Attendee's Name*\n                            \n                            \n                                                    \n                                                    First\n                                                \n                            \n                            \n                                                    \n                                                    Last\n                                                \n                            \n                        Amount of attendeesPlease enter a number from 1 to 10.Email Address*\n                            \n                        Phone*\n          \n            \n            \n            \n            \n            \n            \n            \n            \n            \n            \n            \n            \n            \n        \n                        Δ
URL:https://friendsnj.com/event/orientation24/
LOCATION:33 Gordons Corner Rd. Manalapan\, 33 Gordons Corner Rd\, Manalapan\, NJ\, 07726\, United States
CATEGORIES:Community Event,Volunteer Event
ATTACH;FMTTYPE=image/png:https://friendsnj.com/wp-content/uploads/2024/08/summer-camp-volunteer-orientation-2024.png
ORGANIZER;CN="Friendship Circle Volunteer Events":MAILTO:moushkie@friendsnj.com
END:VEVENT
END:VCALENDAR