BEGIN:VCALENDAR
VERSION:2.0
PRODID:-//Friendship Circle of Central Jersey - ECPv6.15.20//NONSGML v1.0//EN
CALSCALE:GREGORIAN
METHOD:PUBLISH
X-WR-CALNAME:Friendship Circle of Central Jersey
X-ORIGINAL-URL:https://friendsnj.com
X-WR-CALDESC:Events for Friendship Circle of Central Jersey
REFRESH-INTERVAL;VALUE=DURATION:PT1H
X-Robots-Tag:noindex
X-PUBLISHED-TTL:PT1H
BEGIN:VTIMEZONE
TZID:America/New_York
BEGIN:DAYLIGHT
TZOFFSETFROM:-0500
TZOFFSETTO:-0400
TZNAME:EDT
DTSTART:20230312T070000
END:DAYLIGHT
BEGIN:STANDARD
TZOFFSETFROM:-0400
TZOFFSETTO:-0500
TZNAME:EST
DTSTART:20231105T060000
END:STANDARD
BEGIN:DAYLIGHT
TZOFFSETFROM:-0500
TZOFFSETTO:-0400
TZNAME:EDT
DTSTART:20240310T070000
END:DAYLIGHT
BEGIN:STANDARD
TZOFFSETFROM:-0400
TZOFFSETTO:-0500
TZNAME:EST
DTSTART:20241103T060000
END:STANDARD
BEGIN:DAYLIGHT
TZOFFSETFROM:-0500
TZOFFSETTO:-0400
TZNAME:EDT
DTSTART:20250309T070000
END:DAYLIGHT
BEGIN:STANDARD
TZOFFSETFROM:-0400
TZOFFSETTO:-0500
TZNAME:EST
DTSTART:20251102T060000
END:STANDARD
END:VTIMEZONE
BEGIN:VEVENT
DTSTART;TZID=America/New_York:20240811T103000
DTEND;TZID=America/New_York:20240811T123000
DTSTAMP:20260421T014400
CREATED:20240731T000828Z
LAST-MODIFIED:20240801T063033Z
UID:18397-1723372200-1723379400@friendsnj.com
SUMMARY:Cars4Friendship Invitational
DESCRIPTION:To register visit cars4friendship.com
URL:https://friendsnj.com/event/cars4friendship-invitational/
LOCATION:Marlboro Middle School\, 255 County Road 520\, Marlboro\, 07746\, United States
CATEGORIES:Community Event,Family Event,Participant Event,Volunteer Event
ATTACH;FMTTYPE=image/jpeg:https://friendsnj.com/wp-content/uploads/2024/07/C4f-Flyer-1.jpg
ORGANIZER;CN="The Friendship Circle":MAILTO:muka@friendsnj.com
END:VEVENT
END:VCALENDAR